BEGIN:VCALENDAR
VERSION:2.0
PRODID:-//https://rock111.com///NONSGML kigkonsult.se iCalcreator 2.10.15//
METHOD:PUBLISH
BEGIN:VEVENT
UID:20260422T145025UTC-3784KX5Rt4@https://rock111.com/
DTSTAMP:20260422T145025Z
DESCRIPTION: https://rock111.com/eventos/event/72-festival-tertulia-puebla.
 html
DTSTART:20240217T201406Z
DTEND:20240217T221406Z
LOCATION:Plaza civica de la Victoria  (Puebla)
SUMMARY:Festival Tertulia Puebla 
URL:https://rock111.com/eventos/event/72-festival-tertulia-puebla.html
END:VEVENT
END:VCALENDAR
