BEGIN:VCALENDAR
VERSION:2.0
PRODID:-//https://rock111.com///NONSGML kigkonsult.se iCalcreator 2.10.15//
METHOD:PUBLISH
BEGIN:VEVENT
UID:20260423T040947UTC-7916jSnmBE@https://rock111.com/
DTSTAMP:20260423T040947Z
DESCRIPTION: https://rock111.com/eventos/event/176-la-gusana-ciega.html
DTSTART:20241004T120000Z
DTEND:20241004T230000Z
LOCATION:Auditorio Nacional CDMX ()
SUMMARY:La Gusana Ciega 
URL:https://rock111.com/eventos/event/176-la-gusana-ciega.html
END:VEVENT
END:VCALENDAR
