BEGIN:VCALENDAR
VERSION:2.0
PRODID:-//https://rock111.com///NONSGML kigkonsult.se iCalcreator 2.10.15//
METHOD:PUBLISH
BEGIN:VEVENT
UID:20260419T195951UTC-7842ug0U3W@https://rock111.com/
DTSTAMP:20260419T195951Z
DESCRIPTION: https://rock111.com/eventos/event/15-punk-rocker-fest-2023.htm
 l
DTSTART:20230930T184529Z
DTEND:20230930T204529Z
LOCATION:Silao Guanajuato (Av Central)
SUMMARY:Punk Rocker Fest 2023 
URL:https://rock111.com/eventos/event/15-punk-rocker-fest-2023.html
END:VEVENT
END:VCALENDAR
