BEGIN:VCALENDAR
VERSION:2.0
PRODID:-//https://rock111.com///NONSGML kigkonsult.se iCalcreator 2.10.15//
METHOD:PUBLISH
BEGIN:VEVENT
UID:20260419T203751UTC-8080KMmPuJ@https://rock111.com/
DTSTAMP:20260419T203751Z
DESCRIPTION: https://rock111.com/eventos/event/135-el-haragán.html
DTSTART:20240308T190000Z
DTEND:20240308T230000Z
LOCATION:Foro cultural Azcapotzacol  ()
SUMMARY:El Haragán 
URL:https://rock111.com/eventos/event/135-el-haragán.html
END:VEVENT
END:VCALENDAR
