BEGIN:VCALENDAR
VERSION:2.0
PRODID:-//https://rock111.com///NONSGML kigkonsult.se iCalcreator 2.10.15//
METHOD:PUBLISH
BEGIN:VEVENT
UID:20260423T163312UTC-7764PdRrlI@https://rock111.com/
DTSTAMP:20260423T163312Z
DESCRIPTION: https://rock111.com/component/rseventspro/event/857-aúpa-lumbr
 eiras-2020-the-return.html
DTSTART:20260813T131713Z
DTEND:20260815T131713Z
LOCATION:El festival se realizó en el Polideportivo Municipal de Villena\, 
 ubicado en Villena\, Alicante. ()
SUMMARY:Aúpa Lumbreiras 2020: The Return
URL:https://rock111.com/component/rseventspro/event/857-aúpa-lumbreiras-202
 0-the-return.html
END:VEVENT
END:VCALENDAR
